Package: mosbi Version: 1.6.0 Command: rm -rf mosbi.buildbin-libdir && mkdir mosbi.buildbin-libdir && F:\biocbuild\bbs-3.17-bioc\R\bin\R.exe CMD INSTALL --build --library=mosbi.buildbin-libdir mosbi_1.6.0.tar.gz StartedAt: 2023-10-16 09:07:09 -0400 (Mon, 16 Oct 2023) EndedAt: 2023-10-16 09:09:35 -0400 (Mon, 16 Oct 2023) EllapsedTime: 146.2 seconds RetCode: 0 Status: OK PackageFile: mosbi_1.6.0.zip PackageFileSize: 1.825 MiB