Package: mosbi Version: 1.6.0 Command: /Library/Frameworks/R.framework/Resources/bin/R CMD INSTALL mosbi StartedAt: 2023-10-15 16:15:47 -0400 (Sun, 15 Oct 2023) EndedAt: 2023-10-15 16:20:33 -0400 (Sun, 15 Oct 2023) EllapsedTime: 286.1 seconds RetCode: 0 Status: OK