Package: mosbi Version: 1.6.0 Command: _R_CHECK_FORCE_SUGGESTS_=0 /Library/Frameworks/R.framework/Resources/bin/R CMD check --install=check:mosbi.install-out.txt --library=/Library/Frameworks/R.framework/Resources/library --no-vignettes --timings mosbi_1.6.0.tar.gz StartedAt: 2023-10-16 04:10:44 -0400 (Mon, 16 Oct 2023) EndedAt: 2023-10-16 04:11:59 -0400 (Mon, 16 Oct 2023) EllapsedTime: 75.7 seconds RetCode: 0 Status: WARNINGS CheckDir: mosbi.Rcheck Warnings: 1