Package: mosbi Version: 1.6.0 Command: rm -rf mosbi.buildbin-libdir && mkdir mosbi.buildbin-libdir && /Users/biocbuild/BBS/utils/build-universal.sh mosbi_1.6.0.tar.gz /Library/Frameworks/R.framework/Resources/bin/R mosbi.buildbin-libdir StartedAt: 2023-10-16 09:45:53 -0400 (Mon, 16 Oct 2023) EndedAt: 2023-10-16 09:51:04 -0400 (Mon, 16 Oct 2023) EllapsedTime: 311.3 seconds RetCode: 0 Status: OK PackageFile: mosbi_1.6.0.tgz PackageFileSize: 2.71 MiB