Package: mosaics Version: 2.38.0 Command: F:\biocbuild\bbs-3.17-bioc\R\bin\R.exe CMD check --no-multiarch --install=check:mosaics.install-out.txt --library=F:\biocbuild\bbs-3.17-bioc\R\library --no-vignettes --timings mosaics_2.38.0.tar.gz StartedAt: 2023-10-16 04:18:59 -0400 (Mon, 16 Oct 2023) EndedAt: 2023-10-16 04:22:08 -0400 (Mon, 16 Oct 2023) EllapsedTime: 189.6 seconds RetCode: 0 Status: OK CheckDir: mosaics.Rcheck Warnings: 0