Package: mosaics Version: 2.38.0 Command: /home/biocbuild/bbs-3.17-bioc/R/bin/R CMD INSTALL mosaics StartedAt: 2023-10-15 15:18:00 -0400 (Sun, 15 Oct 2023) EndedAt: 2023-10-15 15:18:55 -0400 (Sun, 15 Oct 2023) EllapsedTime: 55.2 seconds RetCode: 0 Status: OK