Package: mosaics Version: 2.38.0 Command: /Library/Frameworks/R.framework/Resources/bin/R CMD INSTALL mosaics StartedAt: 2023-10-15 15:25:31 -0400 (Sun, 15 Oct 2023) EndedAt: 2023-10-15 15:28:32 -0400 (Sun, 15 Oct 2023) EllapsedTime: 180.1 seconds RetCode: 0 Status: OK