Package: mosaics Version: 2.38.0 Command: /Library/Frameworks/R.framework/Resources/bin/R CMD build --keep-empty-dirs --no-resave-data mosaics StartedAt: 2023-10-15 19:37:34 -0400 (Sun, 15 Oct 2023) EndedAt: 2023-10-15 19:44:27 -0400 (Sun, 15 Oct 2023) EllapsedTime: 413.4 seconds RetCode: 0 Status: OK PackageFile: mosaics_2.38.0.tar.gz PackageFileSize: 2.044 MiB