Package: monocle Version: 2.28.0 Command: chmod a+r monocle -R && F:\biocbuild\bbs-3.17-bioc\R\bin\R.exe CMD build --keep-empty-dirs --no-resave-data monocle StartedAt: 2023-10-15 20:35:22 -0400 (Sun, 15 Oct 2023) EndedAt: 2023-10-15 20:36:05 -0400 (Sun, 15 Oct 2023) EllapsedTime: 43.2 seconds RetCode: 0 Status: OK PackageFile: monocle_2.28.0.tar.gz PackageFileSize: 8.939 MiB