Package: monocle Version: 2.28.0 Command: rm -rf monocle.buildbin-libdir && mkdir monocle.buildbin-libdir && F:\biocbuild\bbs-3.17-bioc\R\bin\R.exe CMD INSTALL --build --library=monocle.buildbin-libdir monocle_2.28.0.tar.gz StartedAt: 2023-10-16 09:06:57 -0400 (Mon, 16 Oct 2023) EndedAt: 2023-10-16 09:07:41 -0400 (Mon, 16 Oct 2023) EllapsedTime: 43.7 seconds RetCode: 0 Status: OK PackageFile: monocle_2.28.0.zip PackageFileSize: 1.702 MiB