Package: monocle Version: 2.28.0 Command: /Library/Frameworks/R.framework/Resources/bin/R CMD check --install=check:monocle.install-out.txt --library=/Library/Frameworks/R.framework/Resources/library --no-vignettes --timings monocle_2.28.0.tar.gz StartedAt: 2023-10-16 04:09:56 -0400 (Mon, 16 Oct 2023) EndedAt: 2023-10-16 04:14:05 -0400 (Mon, 16 Oct 2023) EllapsedTime: 249.3 seconds RetCode: 0 Status: OK CheckDir: monocle.Rcheck Warnings: 0