Package: monocle Version: 2.28.0 Command: rm -rf monocle.buildbin-libdir && mkdir monocle.buildbin-libdir && /Users/biocbuild/BBS/utils/build-universal.sh monocle_2.28.0.tar.gz /Library/Frameworks/R.framework/Resources/bin/R monocle.buildbin-libdir StartedAt: 2023-10-16 09:45:41 -0400 (Mon, 16 Oct 2023) EndedAt: 2023-10-16 09:47:15 -0400 (Mon, 16 Oct 2023) EllapsedTime: 93.6 seconds RetCode: 0 Status: OK PackageFile: monocle_2.28.0.tgz PackageFileSize: 1.412 MiB