Package: mogsa Version: 1.34.0 Command: F:\biocbuild\bbs-3.17-bioc\R\bin\R.exe CMD INSTALL mogsa StartedAt: 2023-10-15 16:37:03 -0400 (Sun, 15 Oct 2023) EndedAt: 2023-10-15 16:37:38 -0400 (Sun, 15 Oct 2023) EllapsedTime: 35.2 seconds RetCode: 0 Status: OK