Package: mogsa Version: 1.34.0 Command: chmod a+r mogsa -R && F:\biocbuild\bbs-3.17-bioc\R\bin\R.exe CMD build --keep-empty-dirs --no-resave-data mogsa StartedAt: 2023-10-15 20:34:52 -0400 (Sun, 15 Oct 2023) EndedAt: 2023-10-15 20:36:56 -0400 (Sun, 15 Oct 2023) EllapsedTime: 124.0 seconds RetCode: 0 Status: OK PackageFile: mogsa_1.34.0.tar.gz PackageFileSize: 774.2 KiB