Package: moanin Version: 1.8.0 Command: F:\biocbuild\bbs-3.17-bioc\R\bin\R.exe CMD INSTALL moanin StartedAt: 2023-10-15 16:11:56 -0400 (Sun, 15 Oct 2023) EndedAt: 2023-10-15 16:12:40 -0400 (Sun, 15 Oct 2023) EllapsedTime: 44.5 seconds RetCode: 0 Status: OK