Package: moanin Version: 1.8.0 Command: rm -rf moanin.buildbin-libdir && mkdir moanin.buildbin-libdir && F:\biocbuild\bbs-3.17-bioc\R\bin\R.exe CMD INSTALL --build --library=moanin.buildbin-libdir moanin_1.8.0.tar.gz StartedAt: 2023-10-16 09:06:31 -0400 (Mon, 16 Oct 2023) EndedAt: 2023-10-16 09:07:13 -0400 (Mon, 16 Oct 2023) EllapsedTime: 42.0 seconds RetCode: 0 Status: OK PackageFile: moanin_1.8.0.zip PackageFileSize: 921.6 KiB