Package: mnem Version: 1.16.0 Command: F:\biocbuild\bbs-3.17-bioc\R\bin\R.exe CMD check --no-multiarch --install=check:mnem.install-out.txt --library=F:\biocbuild\bbs-3.17-bioc\R\library --no-vignettes --timings mnem_1.16.0.tar.gz StartedAt: 2023-10-16 04:15:25 -0400 (Mon, 16 Oct 2023) EndedAt: 2023-10-16 04:17:41 -0400 (Mon, 16 Oct 2023) EllapsedTime: 135.6 seconds RetCode: 0 Status: OK CheckDir: mnem.Rcheck Warnings: 0