Package: mnem Version: 1.16.0 Command: /home/biocbuild/bbs-3.17-bioc/R/bin/R CMD INSTALL mnem StartedAt: 2023-10-15 15:41:06 -0400 (Sun, 15 Oct 2023) EndedAt: 2023-10-15 15:41:38 -0400 (Sun, 15 Oct 2023) EllapsedTime: 32.5 seconds RetCode: 0 Status: OK