Package: mnem Version: 1.16.0 Command: /Library/Frameworks/R.framework/Resources/bin/R CMD build --keep-empty-dirs --no-resave-data mnem StartedAt: 2023-10-15 19:35:16 -0400 (Sun, 15 Oct 2023) EndedAt: 2023-10-15 19:38:15 -0400 (Sun, 15 Oct 2023) EllapsedTime: 179.4 seconds RetCode: 0 Status: OK PackageFile: mnem_1.16.0.tar.gz PackageFileSize: 4.58 MiB