Package: mitoClone2 Version: 1.6.0 Command: /home/biocbuild/bbs-3.17-bioc/R/bin/R CMD INSTALL mitoClone2 StartedAt: 2023-10-15 15:24:48 -0400 (Sun, 15 Oct 2023) EndedAt: 2023-10-15 15:25:40 -0400 (Sun, 15 Oct 2023) EllapsedTime: 51.7 seconds RetCode: 0 Status: OK