Package: mitoClone2 Version: 1.6.0 Command: /home/biocbuild/bbs-3.17-bioc/R/bin/R CMD check --install=check:mitoClone2.install-out.txt --library=/home/biocbuild/bbs-3.17-bioc/R/site-library --timings mitoClone2_1.6.0.tar.gz StartedAt: 2023-10-15 22:55:31 -0400 (Sun, 15 Oct 2023) EndedAt: 2023-10-15 23:05:18 -0400 (Sun, 15 Oct 2023) EllapsedTime: 586.7 seconds RetCode: 0 Status: WARNINGS CheckDir: mitoClone2.Rcheck Warnings: 2