Package: mitoClone2 Version: 1.6.0 Command: /Library/Frameworks/R.framework/Resources/bin/R CMD build --keep-empty-dirs --no-resave-data mitoClone2 StartedAt: 2023-10-15 19:34:26 -0400 (Sun, 15 Oct 2023) EndedAt: 2023-10-15 19:34:52 -0400 (Sun, 15 Oct 2023) EllapsedTime: 25.7 seconds RetCode: 1 Status: ERROR PackageFile: None PackageFileSize: NA