Package: mitoClone2 Version: 1.5.0 Command: rm -rf mitoClone2.buildbin-libdir && mkdir mitoClone2.buildbin-libdir && /Users/biocbuild/BBS/utils/build-universal.sh mitoClone2_1.5.0.tar.gz /Library/Frameworks/R.framework/Resources/bin/R mitoClone2.buildbin-libdir StartedAt: 2023-03-16 09:30:45 -0400 (Thu, 16 Mar 2023) EndedAt: 2023-03-16 09:33:33 -0400 (Thu, 16 Mar 2023) EllapsedTime: 167.6 seconds RetCode: 0 Status: OK PackageFile: mitoClone2_1.5.0.tgz PackageFileSize: 1.886 MiB