Package: mitch Version: 1.12.0 Command: /home/biocbuild/bbs-3.17-bioc/R/bin/R CMD INSTALL mitch StartedAt: 2023-10-15 15:28:41 -0400 (Sun, 15 Oct 2023) EndedAt: 2023-10-15 15:28:47 -0400 (Sun, 15 Oct 2023) EllapsedTime: 5.8 seconds RetCode: 0 Status: OK