Package: mitch Version: 1.12.0 Command: /home/biocbuild/bbs-3.17-bioc/R/bin/R CMD check --install=check:mitch.install-out.txt --library=/home/biocbuild/bbs-3.17-bioc/R/site-library --timings mitch_1.12.0.tar.gz StartedAt: 2023-10-15 22:55:31 -0400 (Sun, 15 Oct 2023) EndedAt: 2023-10-15 22:59:01 -0400 (Sun, 15 Oct 2023) EllapsedTime: 209.9 seconds RetCode: 0 Status: OK CheckDir: mitch.Rcheck Warnings: 0