Package: mistyR Version: 1.8.1 Command: F:\biocbuild\bbs-3.17-bioc\R\bin\R.exe CMD check --no-multiarch --install=check:mistyR.install-out.txt --library=F:\biocbuild\bbs-3.17-bioc\R\library --no-vignettes --timings mistyR_1.8.1.tar.gz StartedAt: 2023-10-16 04:12:39 -0400 (Mon, 16 Oct 2023) EndedAt: 2023-10-16 04:24:25 -0400 (Mon, 16 Oct 2023) EllapsedTime: 705.1 seconds RetCode: 0 Status: OK CheckDir: mistyR.Rcheck Warnings: 0