Package: mistyR Version: 1.8.1 Command: rm -rf mistyR.buildbin-libdir && mkdir mistyR.buildbin-libdir && F:\biocbuild\bbs-3.17-bioc\R\bin\R.exe CMD INSTALL --build --library=mistyR.buildbin-libdir mistyR_1.8.1.tar.gz StartedAt: 2023-10-16 09:06:09 -0400 (Mon, 16 Oct 2023) EndedAt: 2023-10-16 09:06:21 -0400 (Mon, 16 Oct 2023) EllapsedTime: 11.5 seconds RetCode: 0 Status: OK PackageFile: mistyR_1.8.1.zip PackageFileSize: 2.892 MiB