Package: mistyR Version: 1.8.1 Command: /Library/Frameworks/R.framework/Resources/bin/R CMD check --install=check:mistyR.install-out.txt --library=/Library/Frameworks/R.framework/Resources/library --no-vignettes --timings mistyR_1.8.1.tar.gz StartedAt: 2023-10-16 04:03:28 -0400 (Mon, 16 Oct 2023) EndedAt: 2023-10-16 04:35:52 -0400 (Mon, 16 Oct 2023) EllapsedTime: 1943.9 seconds RetCode: 0 Status: OK CheckDir: mistyR.Rcheck Warnings: 0