Package: mirTarRnaSeq Version: 1.8.0 Command: chmod a+r mirTarRnaSeq -R && F:\biocbuild\bbs-3.17-bioc\R\bin\R.exe CMD build --keep-empty-dirs --no-resave-data mirTarRnaSeq StartedAt: 2023-10-15 20:30:12 -0400 (Sun, 15 Oct 2023) EndedAt: 2023-10-15 20:34:09 -0400 (Sun, 15 Oct 2023) EllapsedTime: 237.9 seconds RetCode: 0 Status: OK PackageFile: mirTarRnaSeq_1.8.0.tar.gz PackageFileSize: 3.418 MiB