Package: mirTarRnaSeq Version: 1.8.0 Command: rm -rf mirTarRnaSeq.buildbin-libdir && mkdir mirTarRnaSeq.buildbin-libdir && F:\biocbuild\bbs-3.17-bioc\R\bin\R.exe CMD INSTALL --build --library=mirTarRnaSeq.buildbin-libdir mirTarRnaSeq_1.8.0.tar.gz StartedAt: 2023-10-16 09:06:04 -0400 (Mon, 16 Oct 2023) EndedAt: 2023-10-16 09:06:28 -0400 (Mon, 16 Oct 2023) EllapsedTime: 24.1 seconds RetCode: 0 Status: OK PackageFile: mirTarRnaSeq_1.8.0.zip PackageFileSize: 4.549 MiB