Package: mirTarRnaSeq Version: 1.8.0 Command: /home/biocbuild/bbs-3.17-bioc/R/bin/R CMD build --keep-empty-dirs --no-resave-data mirTarRnaSeq StartedAt: 2023-10-15 17:28:46 -0400 (Sun, 15 Oct 2023) EndedAt: 2023-10-15 17:31:36 -0400 (Sun, 15 Oct 2023) EllapsedTime: 170.4 seconds RetCode: 0 Status: OK PackageFile: mirTarRnaSeq_1.8.0.tar.gz PackageFileSize: 3.417 MiB