Package: mirTarRnaSeq Version: 1.8.0 Command: /Library/Frameworks/R.framework/Resources/bin/R CMD INSTALL mirTarRnaSeq StartedAt: 2023-10-15 15:11:18 -0400 (Sun, 15 Oct 2023) EndedAt: 2023-10-15 15:11:47 -0400 (Sun, 15 Oct 2023) EllapsedTime: 28.4 seconds RetCode: 0 Status: OK