Package: mirTarRnaSeq Version: 1.8.0 Command: /Library/Frameworks/R.framework/Resources/bin/R CMD check --install=check:mirTarRnaSeq.install-out.txt --library=/Library/Frameworks/R.framework/Resources/library --no-vignettes --timings mirTarRnaSeq_1.8.0.tar.gz StartedAt: 2023-10-16 04:02:40 -0400 (Mon, 16 Oct 2023) EndedAt: 2023-10-16 04:05:04 -0400 (Mon, 16 Oct 2023) EllapsedTime: 144.6 seconds RetCode: 0 Status: OK CheckDir: mirTarRnaSeq.Rcheck Warnings: 0