Package: mirIntegrator Version: 1.30.0 Command: F:\biocbuild\bbs-3.17-bioc\R\bin\R.exe CMD INSTALL mirIntegrator StartedAt: 2023-10-15 16:07:31 -0400 (Sun, 15 Oct 2023) EndedAt: 2023-10-15 16:07:52 -0400 (Sun, 15 Oct 2023) EllapsedTime: 20.7 seconds RetCode: 0 Status: OK