Package: mirIntegrator Version: 1.30.0 Command: chmod a+r mirIntegrator -R && F:\biocbuild\bbs-3.17-bioc\R\bin\R.exe CMD build --keep-empty-dirs --no-resave-data mirIntegrator StartedAt: 2023-10-15 20:29:37 -0400 (Sun, 15 Oct 2023) EndedAt: 2023-10-15 20:30:41 -0400 (Sun, 15 Oct 2023) EllapsedTime: 63.4 seconds RetCode: 0 Status: OK PackageFile: mirIntegrator_1.30.0.tar.gz PackageFileSize: 1.673 MiB