Package: mirIntegrator Version: 1.30.0 Command: rm -rf mirIntegrator.buildbin-libdir && mkdir mirIntegrator.buildbin-libdir && F:\biocbuild\bbs-3.17-bioc\R\bin\R.exe CMD INSTALL --build --library=mirIntegrator.buildbin-libdir mirIntegrator_1.30.0.tar.gz StartedAt: 2023-10-16 09:05:47 -0400 (Mon, 16 Oct 2023) EndedAt: 2023-10-16 09:06:09 -0400 (Mon, 16 Oct 2023) EllapsedTime: 21.9 seconds RetCode: 0 Status: OK PackageFile: mirIntegrator_1.30.0.zip PackageFileSize: 1.713 MiB