Package: mirIntegrator Version: 1.30.0 Command: /home/biocbuild/bbs-3.17-bioc/R/bin/R CMD check --install=check:mirIntegrator.install-out.txt --library=/home/biocbuild/bbs-3.17-bioc/R/site-library --timings mirIntegrator_1.30.0.tar.gz StartedAt: 2023-10-15 22:52:31 -0400 (Sun, 15 Oct 2023) EndedAt: 2023-10-15 22:56:10 -0400 (Sun, 15 Oct 2023) EllapsedTime: 219.3 seconds RetCode: 0 Status: OK CheckDir: mirIntegrator.Rcheck Warnings: 0