Package: mirIntegrator Version: 1.30.0 Command: /Library/Frameworks/R.framework/Resources/bin/R CMD build --keep-empty-dirs --no-resave-data mirIntegrator StartedAt: 2023-10-15 19:32:37 -0400 (Sun, 15 Oct 2023) EndedAt: 2023-10-15 19:34:56 -0400 (Sun, 15 Oct 2023) EllapsedTime: 138.5 seconds RetCode: 0 Status: OK PackageFile: mirIntegrator_1.30.0.tar.gz PackageFileSize: 1.808 MiB