Package: minfi Version: 1.46.0 Command: rm -rf minfi.buildbin-libdir && mkdir minfi.buildbin-libdir && F:\biocbuild\bbs-3.17-bioc\R\bin\R.exe CMD INSTALL --build --library=minfi.buildbin-libdir minfi_1.46.0.tar.gz StartedAt: 2023-10-16 09:05:33 -0400 (Mon, 16 Oct 2023) EndedAt: 2023-10-16 09:06:38 -0400 (Mon, 16 Oct 2023) EllapsedTime: 65.2 seconds RetCode: 0 Status: OK PackageFile: minfi_1.46.0.zip PackageFileSize: 1.545 MiB