Package: minfi Version: 1.46.0 Command: /home/biocbuild/bbs-3.17-bioc/R/bin/R CMD INSTALL minfi StartedAt: 2023-10-15 15:44:10 -0400 (Sun, 15 Oct 2023) EndedAt: 2023-10-15 15:44:58 -0400 (Sun, 15 Oct 2023) EllapsedTime: 47.8 seconds RetCode: 0 Status: OK