Package: minfi Version: 1.46.0 Command: /home/biocbuild/bbs-3.17-bioc/R/bin/R CMD build --keep-empty-dirs --no-resave-data minfi StartedAt: 2023-10-15 17:27:18 -0400 (Sun, 15 Oct 2023) EndedAt: 2023-10-15 17:28:57 -0400 (Sun, 15 Oct 2023) EllapsedTime: 99.8 seconds RetCode: 0 Status: OK PackageFile: minfi_1.46.0.tar.gz PackageFileSize: 505.2 KiB