Package: minfi Version: 1.46.0 Command: /Library/Frameworks/R.framework/Resources/bin/R CMD build --keep-empty-dirs --no-resave-data minfi StartedAt: 2023-10-15 19:31:39 -0400 (Sun, 15 Oct 2023) EndedAt: 2023-10-15 19:35:21 -0400 (Sun, 15 Oct 2023) EllapsedTime: 222.1 seconds RetCode: 0 Status: OK PackageFile: minfi_1.46.0.tar.gz PackageFileSize: 505.2 KiB