Package: minet Version: 3.58.0 Command: F:\biocbuild\bbs-3.17-bioc\R\bin\R.exe CMD INSTALL minet StartedAt: 2023-10-15 16:54:33 -0400 (Sun, 15 Oct 2023) EndedAt: 2023-10-15 16:54:44 -0400 (Sun, 15 Oct 2023) EllapsedTime: 11.1 seconds RetCode: 0 Status: OK