Package: minet Version: 3.58.0 Command: F:\biocbuild\bbs-3.17-bioc\R\bin\R.exe CMD check --no-multiarch --install=check:minet.install-out.txt --library=F:\biocbuild\bbs-3.17-bioc\R\library --no-vignettes --timings minet_3.58.0.tar.gz StartedAt: 2023-10-16 04:07:39 -0400 (Mon, 16 Oct 2023) EndedAt: 2023-10-16 04:08:17 -0400 (Mon, 16 Oct 2023) EllapsedTime: 38.7 seconds RetCode: 0 Status: OK CheckDir: minet.Rcheck Warnings: 0