Package: minet Version: 3.58.0 Command: /home/biocbuild/bbs-3.17-bioc/R/bin/R CMD check --install=check:minet.install-out.txt --library=/home/biocbuild/bbs-3.17-bioc/R/site-library --timings minet_3.58.0.tar.gz StartedAt: 2023-10-15 22:51:07 -0400 (Sun, 15 Oct 2023) EndedAt: 2023-10-15 22:51:22 -0400 (Sun, 15 Oct 2023) EllapsedTime: 15.3 seconds RetCode: 0 Status: OK CheckDir: minet.Rcheck Warnings: 0