Package: minet Version: 3.58.0 Command: /Library/Frameworks/R.framework/Resources/bin/R CMD build --keep-empty-dirs --no-resave-data minet StartedAt: 2023-10-15 19:31:39 -0400 (Sun, 15 Oct 2023) EndedAt: 2023-10-15 19:31:40 -0400 (Sun, 15 Oct 2023) EllapsedTime: 1.0 seconds RetCode: 0 Status: OK PackageFile: minet_3.58.0.tar.gz PackageFileSize: 50.12 KiB