Package: minet Version: 3.58.0 Command: rm -rf minet.buildbin-libdir && mkdir minet.buildbin-libdir && /Users/biocbuild/BBS/utils/build-universal.sh minet_3.58.0.tar.gz /Library/Frameworks/R.framework/Resources/bin/R minet.buildbin-libdir StartedAt: 2023-10-16 09:44:10 -0400 (Mon, 16 Oct 2023) EndedAt: 2023-10-16 09:44:31 -0400 (Mon, 16 Oct 2023) EllapsedTime: 21.0 seconds RetCode: 0 Status: OK PackageFile: minet_3.58.0.tgz PackageFileSize: 93.46 KiB