Package: miloR Version: 1.8.1 Command: F:\biocbuild\bbs-3.17-bioc\R\bin\R.exe CMD INSTALL miloR StartedAt: 2023-10-15 16:52:04 -0400 (Sun, 15 Oct 2023) EndedAt: 2023-10-15 16:52:46 -0400 (Sun, 15 Oct 2023) EllapsedTime: 41.4 seconds RetCode: 0 Status: OK