Package: miloR Version: 1.8.1 Command: chmod a+r miloR -R && F:\biocbuild\bbs-3.17-bioc\R\bin\R.exe CMD build --keep-empty-dirs --no-resave-data miloR StartedAt: 2023-10-15 20:26:44 -0400 (Sun, 15 Oct 2023) EndedAt: 2023-10-15 20:35:20 -0400 (Sun, 15 Oct 2023) EllapsedTime: 516.5 seconds RetCode: 0 Status: OK PackageFile: miloR_1.8.1.tar.gz PackageFileSize: 5.035 MiB