Package: miloR Version: 1.8.1 Command: rm -rf miloR.buildbin-libdir && mkdir miloR.buildbin-libdir && F:\biocbuild\bbs-3.17-bioc\R\bin\R.exe CMD INSTALL --build --library=miloR.buildbin-libdir miloR_1.8.1.tar.gz StartedAt: 2023-10-16 09:05:16 -0400 (Mon, 16 Oct 2023) EndedAt: 2023-10-16 09:05:59 -0400 (Mon, 16 Oct 2023) EllapsedTime: 43.1 seconds RetCode: 0 Status: OK PackageFile: miloR_1.8.1.zip PackageFileSize: 4.406 MiB